BEGIN:VCALENDAR
VERSION:2.0
PRODID:-//Ti Shep&#039;s Layers of Flavor - ECPv6.15.20//NONSGML v1.0//EN
CALSCALE:GREGORIAN
METHOD:PUBLISH
X-ORIGINAL-URL:https://tisheps.com
X-WR-CALDESC:Events for Ti Shep&#039;s Layers of Flavor
REFRESH-INTERVAL;VALUE=DURATION:PT1H
X-Robots-Tag:noindex
X-PUBLISHED-TTL:PT1H
BEGIN:VTIMEZONE
TZID:America/Chicago
BEGIN:DAYLIGHT
TZOFFSETFROM:-0600
TZOFFSETTO:-0500
TZNAME:CDT
DTSTART:20230312T080000
END:DAYLIGHT
BEGIN:STANDARD
TZOFFSETFROM:-0500
TZOFFSETTO:-0600
TZNAME:CST
DTSTART:20231105T070000
END:STANDARD
BEGIN:DAYLIGHT
TZOFFSETFROM:-0600
TZOFFSETTO:-0500
TZNAME:CDT
DTSTART:20240310T080000
END:DAYLIGHT
BEGIN:STANDARD
TZOFFSETFROM:-0500
TZOFFSETTO:-0600
TZNAME:CST
DTSTART:20241103T070000
END:STANDARD
BEGIN:DAYLIGHT
TZOFFSETFROM:-0600
TZOFFSETTO:-0500
TZNAME:CDT
DTSTART:20250309T080000
END:DAYLIGHT
BEGIN:STANDARD
TZOFFSETFROM:-0500
TZOFFSETTO:-0600
TZNAME:CST
DTSTART:20251102T070000
END:STANDARD
END:VTIMEZONE
BEGIN:VEVENT
DTSTART;VALUE=DATE:20241127
DTEND;VALUE=DATE:20241128
DTSTAMP:20260423T055837
CREATED:20240811T010737Z
LAST-MODIFIED:20240811T010737Z
UID:1228-1732665600-1732751999@tisheps.com
SUMMARY:A Lunch @ Fincantieri Marinette Marine
DESCRIPTION:A Lunch @ Fincantieri Marinette Marine every Wednesday \nPre-Order your lunch online:\nhttps://tisheps.com/product-category/fmm-pre-orders/fmm-wednesday-menu/
URL:https://tisheps.com/event/lunch-fincantieri-marinette-marine-16/
CATEGORIES:Fincantieri Marinette Marine
ATTACH;FMTTYPE=image/png:https://tisheps.com/wp-content/uploads/2024/06/Wednesday-Lunch-@-FMM-2.png
END:VEVENT
BEGIN:VEVENT
DTSTART;VALUE=DATE:20241122
DTEND;VALUE=DATE:20241123
DTSTAMP:20260423T055837
CREATED:20240811T012942Z
LAST-MODIFIED:20240811T012942Z
UID:1269-1732233600-1732319999@tisheps.com
SUMMARY:C Lunch @ Fincantieri Marinette Marine
DESCRIPTION:C Lunch @ Fincantieri Marinette Marine every friday \nPre-Order your lunch online:\nhttps://tisheps.com/product-category/fmm-pre-orders/fmm-friday-menu/
URL:https://tisheps.com/event/c-lunch-fincantieri-marinette-marine-15/
CATEGORIES:Fincantieri Marinette Marine
ATTACH;FMTTYPE=image/png:https://tisheps.com/wp-content/uploads/2024/06/Friday-Lunch-@-FMM-2.png
END:VEVENT
BEGIN:VEVENT
DTSTART;VALUE=DATE:20241120
DTEND;VALUE=DATE:20241121
DTSTAMP:20260423T055837
CREATED:20240811T010630Z
LAST-MODIFIED:20240811T010630Z
UID:1227-1732060800-1732147199@tisheps.com
SUMMARY:A Lunch @ Fincantieri Marinette Marine
DESCRIPTION:A Lunch @ Fincantieri Marinette Marine every Wednesday \nPre-Order your lunch online:\nhttps://tisheps.com/product-category/fmm-pre-orders/fmm-wednesday-menu/
URL:https://tisheps.com/event/lunch-fincantieri-marinette-marine-15/
CATEGORIES:Fincantieri Marinette Marine
ATTACH;FMTTYPE=image/png:https://tisheps.com/wp-content/uploads/2024/06/Wednesday-Lunch-@-FMM-2.png
END:VEVENT
BEGIN:VEVENT
DTSTART;VALUE=DATE:20241115
DTEND;VALUE=DATE:20241116
DTSTAMP:20260423T055837
CREATED:20240811T012930Z
LAST-MODIFIED:20240811T012930Z
UID:1268-1731628800-1731715199@tisheps.com
SUMMARY:C Lunch @ Fincantieri Marinette Marine
DESCRIPTION:C Lunch @ Fincantieri Marinette Marine every friday \nPre-Order your lunch online:\nhttps://tisheps.com/product-category/fmm-pre-orders/fmm-friday-menu/
URL:https://tisheps.com/event/c-lunch-fincantieri-marinette-marine-14/
CATEGORIES:Fincantieri Marinette Marine
ATTACH;FMTTYPE=image/png:https://tisheps.com/wp-content/uploads/2024/06/Friday-Lunch-@-FMM-2.png
END:VEVENT
BEGIN:VEVENT
DTSTART;VALUE=DATE:20241113
DTEND;VALUE=DATE:20241114
DTSTAMP:20260423T055837
CREATED:20240811T010613Z
LAST-MODIFIED:20240811T010613Z
UID:1226-1731456000-1731542399@tisheps.com
SUMMARY:A Lunch @ Fincantieri Marinette Marine
DESCRIPTION:A Lunch @ Fincantieri Marinette Marine every Wednesday \nPre-Order your lunch online:\nhttps://tisheps.com/product-category/fmm-pre-orders/fmm-wednesday-menu/
URL:https://tisheps.com/event/lunch-fincantieri-marinette-marine-14/
CATEGORIES:Fincantieri Marinette Marine
ATTACH;FMTTYPE=image/png:https://tisheps.com/wp-content/uploads/2024/06/Wednesday-Lunch-@-FMM-2.png
END:VEVENT
BEGIN:VEVENT
DTSTART;VALUE=DATE:20241108
DTEND;VALUE=DATE:20241109
DTSTAMP:20260423T055837
CREATED:20240811T012914Z
LAST-MODIFIED:20240811T012914Z
UID:1267-1731024000-1731110399@tisheps.com
SUMMARY:C Lunch @ Fincantieri Marinette Marine
DESCRIPTION:C Lunch @ Fincantieri Marinette Marine every friday \nPre-Order your lunch online:\nhttps://tisheps.com/product-category/fmm-pre-orders/fmm-friday-menu/
URL:https://tisheps.com/event/c-lunch-fincantieri-marinette-marine-13/
CATEGORIES:Fincantieri Marinette Marine
ATTACH;FMTTYPE=image/png:https://tisheps.com/wp-content/uploads/2024/06/Friday-Lunch-@-FMM-2.png
END:VEVENT
BEGIN:VEVENT
DTSTART;VALUE=DATE:20241106
DTEND;VALUE=DATE:20241107
DTSTAMP:20260423T055837
CREATED:20240811T010539Z
LAST-MODIFIED:20240811T010539Z
UID:1225-1730851200-1730937599@tisheps.com
SUMMARY:A Lunch @ Fincantieri Marinette Marine
DESCRIPTION:A Lunch @ Fincantieri Marinette Marine every Wednesday \nPre-Order your lunch online:\nhttps://tisheps.com/product-category/fmm-pre-orders/fmm-wednesday-menu/
URL:https://tisheps.com/event/lunch-fincantieri-marinette-marine-13/
CATEGORIES:Fincantieri Marinette Marine
ATTACH;FMTTYPE=image/png:https://tisheps.com/wp-content/uploads/2024/06/Wednesday-Lunch-@-FMM-2.png
END:VEVENT
BEGIN:VEVENT
DTSTART;VALUE=DATE:20241106
DTEND;VALUE=DATE:20241107
DTSTAMP:20260423T055837
CREATED:20240811T004525Z
LAST-MODIFIED:20240811T004525Z
UID:1208-1730851200-1730937599@tisheps.com
SUMMARY:B Lunch @ Fincantieri Marinette Marine November
DESCRIPTION:B Lunch @ Fincantieri Marinette Marine every 1st Wednesday of the month \nPre-Order your lunch online:\nhttps://tisheps.com/product-category/fmm-pre-orders/fmm-wednesday-menu/
URL:https://tisheps.com/event/b-lunch-fincantieri-marinette-marine-nov/
CATEGORIES:Fincantieri Marinette Marine
ATTACH;FMTTYPE=image/png:https://tisheps.com/wp-content/uploads/2024/06/Wednesday-Lunch-@-FMM-2.png
END:VEVENT
BEGIN:VEVENT
DTSTART;TZID=America/Chicago:20241102T180000
DTEND;TZID=America/Chicago:20241102T200000
DTSTAMP:20260423T055837
CREATED:20241016T051412Z
LAST-MODIFIED:20241016T051412Z
UID:1482-1730570400-1730577600@tisheps.com
SUMMARY:A Mardi Gras Murder Mystery @ Spirit House
DESCRIPTION:Dorothy’s Haven of Hope Presents: A Mardi Gras Murder Mystery!\nNovember 2nd\, 6pm – 8pm\nThis event will be held at Spirit House\nlocated at 533 10th Ave\, Menominee\, MI 49858 \nPurchase tickets here:\nhttps://dorothyshoh.com/donate/a-mardi-gras-murder-mystery/
URL:https://tisheps.com/event/a-mardi-gras-murder-mystery-spirit-house/
CATEGORIES:Menominee
ATTACH;FMTTYPE=image/png:https://tisheps.com/wp-content/uploads/2024/10/Mardi-Gras-Murder-Mystery-png.png
END:VEVENT
BEGIN:VEVENT
DTSTART;VALUE=DATE:20241101
DTEND;VALUE=DATE:20241102
DTSTAMP:20260423T055837
CREATED:20240811T012617Z
LAST-MODIFIED:20240811T012617Z
UID:1266-1730419200-1730505599@tisheps.com
SUMMARY:C Lunch @ Fincantieri Marinette Marine
DESCRIPTION:C Lunch @ Fincantieri Marinette Marine every friday \nPre-Order your lunch online:\nhttps://tisheps.com/product-category/fmm-pre-orders/fmm-friday-menu/
URL:https://tisheps.com/event/c-lunch-fincantieri-marinette-marine-12/
CATEGORIES:Fincantieri Marinette Marine
ATTACH;FMTTYPE=image/png:https://tisheps.com/wp-content/uploads/2024/06/Friday-Lunch-@-FMM-2.png
END:VEVENT
BEGIN:VEVENT
DTSTART;VALUE=DATE:20241030
DTEND;VALUE=DATE:20241031
DTSTAMP:20260423T055837
CREATED:20240811T010510Z
LAST-MODIFIED:20240811T010510Z
UID:1224-1730246400-1730332799@tisheps.com
SUMMARY:A Lunch @ Fincantieri Marinette Marine
DESCRIPTION:A Lunch @ Fincantieri Marinette Marine every Wednesday \nPre-Order your lunch online:\nhttps://tisheps.com/product-category/fmm-pre-orders/fmm-wednesday-menu/
URL:https://tisheps.com/event/lunch-fincantieri-marinette-marine-12/
CATEGORIES:Fincantieri Marinette Marine
ATTACH;FMTTYPE=image/png:https://tisheps.com/wp-content/uploads/2024/06/Wednesday-Lunch-@-FMM-2.png
END:VEVENT
BEGIN:VEVENT
DTSTART;VALUE=DATE:20241025
DTEND;VALUE=DATE:20241026
DTSTAMP:20260423T055837
CREATED:20240811T012606Z
LAST-MODIFIED:20240811T012606Z
UID:1265-1729814400-1729900799@tisheps.com
SUMMARY:C Lunch @ Fincantieri Marinette Marine
DESCRIPTION:C Lunch @ Fincantieri Marinette Marine every friday \nPre-Order your lunch online:\nhttps://tisheps.com/product-category/fmm-pre-orders/fmm-friday-menu/
URL:https://tisheps.com/event/c-lunch-fincantieri-marinette-marine-11/
CATEGORIES:Fincantieri Marinette Marine
ATTACH;FMTTYPE=image/png:https://tisheps.com/wp-content/uploads/2024/06/Friday-Lunch-@-FMM-2.png
END:VEVENT
BEGIN:VEVENT
DTSTART;VALUE=DATE:20241023
DTEND;VALUE=DATE:20241024
DTSTAMP:20260423T055837
CREATED:20240811T010436Z
LAST-MODIFIED:20240811T010436Z
UID:1223-1729641600-1729727999@tisheps.com
SUMMARY:A Lunch @ Fincantieri Marinette Marine
DESCRIPTION:A Lunch @ Fincantieri Marinette Marine every Wednesday \nPre-Order your lunch online:\nhttps://tisheps.com/product-category/fmm-pre-orders/fmm-wednesday-menu/
URL:https://tisheps.com/event/lunch-fincantieri-marinette-marine-11/
CATEGORIES:Fincantieri Marinette Marine
ATTACH;FMTTYPE=image/png:https://tisheps.com/wp-content/uploads/2024/06/Wednesday-Lunch-@-FMM-2.png
END:VEVENT
BEGIN:VEVENT
DTSTART;TZID=America/Chicago:20241018T120000
DTEND;TZID=America/Chicago:20241018T140000
DTSTAMP:20260423T055837
CREATED:20241016T050834Z
LAST-MODIFIED:20241016T050948Z
UID:1476-1729252800-1729260000@tisheps.com
SUMMARY:N.E.W. Credit Union in Peshtigo\, WI
DESCRIPTION:PESHTIGO location (870 Frontage Rd)\n\n>>That Mac (White Cheddar Honey Garlic Mac & Cheese) $7\n>>Smoked Sausage w/Slaw (Topped with your choice of sauce) $8\n>>Crabby ‘O (Loaded Seafood Potato with Shrimp\, Crab\, and Cheese in a Garlic Cheese Sauce) $16\n>>Jerk Chicken Wings $10\n>>Smoked Chicken Wings $9\n>>Cabbage Delight (Fried Cabbage\, Peppers\, Sausage) over Rice $9
URL:https://tisheps.com/event/n-e-w-credit-union-in-peshtigo-wi/
CATEGORIES:Peshtigo
ATTACH;FMTTYPE=image/jpeg:https://tisheps.com/wp-content/uploads/2024/10/463117445_1086498263480569_1865607071033945537_n.jpg
END:VEVENT
BEGIN:VEVENT
DTSTART;VALUE=DATE:20241018
DTEND;VALUE=DATE:20241019
DTSTAMP:20260423T055837
CREATED:20240811T012547Z
LAST-MODIFIED:20240811T012547Z
UID:1264-1729209600-1729295999@tisheps.com
SUMMARY:C Lunch @ Fincantieri Marinette Marine
DESCRIPTION:C Lunch @ Fincantieri Marinette Marine every friday \nPre-Order your lunch online:\nhttps://tisheps.com/product-category/fmm-pre-orders/fmm-friday-menu/
URL:https://tisheps.com/event/c-lunch-fincantieri-marinette-marine-10/
CATEGORIES:Fincantieri Marinette Marine
ATTACH;FMTTYPE=image/png:https://tisheps.com/wp-content/uploads/2024/06/Friday-Lunch-@-FMM-2.png
END:VEVENT
BEGIN:VEVENT
DTSTART;TZID=America/Chicago:20241017T170000
DTEND;TZID=America/Chicago:20241017T190000
DTSTAMP:20260423T055837
CREATED:20241016T050444Z
LAST-MODIFIED:20241016T050501Z
UID:1472-1729184400-1729191600@tisheps.com
SUMMARY:Spirit House 5pm-7pm
DESCRIPTION:533 10th Avenue\, Menominee\, MI\, United States\, Michigan
URL:https://tisheps.com/event/spirit-house-5pm-7pm/
CATEGORIES:Menominee
ATTACH;FMTTYPE=image/jpeg:https://tisheps.com/wp-content/uploads/2024/08/359516241_10219157555209650_2892374662610126273_n.jpg
END:VEVENT
BEGIN:VEVENT
DTSTART;TZID=America/Chicago:20241017T110000
DTEND;TZID=America/Chicago:20241017T123000
DTSTAMP:20260423T055837
CREATED:20241016T050218Z
LAST-MODIFIED:20241016T050532Z
UID:1466-1729162800-1729168200@tisheps.com
SUMMARY:Lunch @ ABS
DESCRIPTION:Pre-Ordering is available until midnight on 10/16\nhttps://tisheps.com/product-category/abs-menu/
URL:https://tisheps.com/event/lunch-abs/
CATEGORIES:ABS,Marinette
ATTACH;FMTTYPE=image/png:https://tisheps.com/wp-content/uploads/2024/08/ABS-Full-Revised-Logo.png
END:VEVENT
BEGIN:VEVENT
DTSTART;VALUE=DATE:20241016
DTEND;VALUE=DATE:20241017
DTSTAMP:20260423T055837
CREATED:20240811T010415Z
LAST-MODIFIED:20240811T010415Z
UID:1222-1729036800-1729123199@tisheps.com
SUMMARY:A Lunch @ Fincantieri Marinette Marine
DESCRIPTION:A Lunch @ Fincantieri Marinette Marine every Wednesday \nPre-Order your lunch online:\nhttps://tisheps.com/product-category/fmm-pre-orders/fmm-wednesday-menu/
URL:https://tisheps.com/event/lunch-fincantieri-marinette-marine-10/
CATEGORIES:Fincantieri Marinette Marine
ATTACH;FMTTYPE=image/png:https://tisheps.com/wp-content/uploads/2024/06/Wednesday-Lunch-@-FMM-2.png
END:VEVENT
BEGIN:VEVENT
DTSTART;TZID=America/Chicago:20241012T080000
DTEND;TZID=America/Chicago:20241012T170000
DTSTAMP:20260423T055837
CREATED:20240912T020009Z
LAST-MODIFIED:20240912T020009Z
UID:1397-1728720000-1728752400@tisheps.com
SUMMARY:Fall Craft Fair at Washington Square in Marinette
DESCRIPTION:2502 Taylor St\, Marinette\, WI\, United States\, Wisconsin 54143\n\n\n\n \nLooking to find some unique treasures and enjoy a festive fall event? The Washington Square fair will feature a variety of art vendors showcasing items such as ceramics\, handmade jewelry\, ornaments\, metal and wood art\, crochet characters\, yard art\, snow globes\, tumblers\, specialized t shirts\, homemade candles\, beautiful paintings and way more!\n\n\n\nCome join them at their beautiful Assisted Living Community and enjoy food from Ti Shep’s Layers of Flavor Food Truck\, Kiwanis Kettle Corn\, and live music while you shop!\n\nCall (715) 732-2550 with any questions\, or if you are interested in being a vendor!
URL:https://tisheps.com/event/fall-craft-fair-at-washington-square-in-marinette/
CATEGORIES:Marinette
ATTACH;FMTTYPE=image/jpeg:https://tisheps.com/wp-content/uploads/2024/09/455790172_1046764637452049_6692829283351766627_n.jpg
END:VEVENT
BEGIN:VEVENT
DTSTART;VALUE=DATE:20241011
DTEND;VALUE=DATE:20241012
DTSTAMP:20260423T055837
CREATED:20240811T012533Z
LAST-MODIFIED:20240811T012533Z
UID:1263-1728604800-1728691199@tisheps.com
SUMMARY:C Lunch @ Fincantieri Marinette Marine
DESCRIPTION:C Lunch @ Fincantieri Marinette Marine every friday \nPre-Order your lunch online:\nhttps://tisheps.com/product-category/fmm-pre-orders/fmm-friday-menu/
URL:https://tisheps.com/event/c-lunch-fincantieri-marinette-marine-9/
CATEGORIES:Fincantieri Marinette Marine
ATTACH;FMTTYPE=image/png:https://tisheps.com/wp-content/uploads/2024/06/Friday-Lunch-@-FMM-2.png
END:VEVENT
BEGIN:VEVENT
DTSTART;TZID=America/Chicago:20241009T120000
DTEND;TZID=America/Chicago:20241009T180000
DTSTAMP:20260423T055837
CREATED:20240910T184420Z
LAST-MODIFIED:20241016T045945Z
UID:1387-1728475200-1728496800@tisheps.com
SUMMARY:1st Annual Welding Rodeo @ NWTC Marinette Campus 12-6
DESCRIPTION:1st Annual Welding Rodeo @ NWTC Marinette Campus 12-6\nFREE and open to the public. The day-long event includes: \n\nWelding competitions\nSTEM career fair\nFamily activities\nFood and music\n\nMenu:  \nBBQ Salmon Nachos\nCollard Greens\nThat Mac\nSmoked Chicken Wings\nSmoked Sausage\nPulled Pork Tacos
URL:https://tisheps.com/event/1st-annual-welding-rodeo-nwtc-marinette-campus-12-6/
CATEGORIES:Marinette
ATTACH;FMTTYPE=image/jpeg:https://tisheps.com/wp-content/uploads/2024/09/Marinette.jpg
END:VEVENT
BEGIN:VEVENT
DTSTART;VALUE=DATE:20241009
DTEND;VALUE=DATE:20241010
DTSTAMP:20260423T055837
CREATED:20240811T010340Z
LAST-MODIFIED:20240811T010349Z
UID:1221-1728432000-1728518399@tisheps.com
SUMMARY:A Lunch @ Fincantieri Marinette Marine
DESCRIPTION:A Lunch @ Fincantieri Marinette Marine every Wednesday \nPre-Order your lunch online:\nhttps://tisheps.com/product-category/fmm-pre-orders/fmm-wednesday-menu/
URL:https://tisheps.com/event/lunch-fincantieri-marinette-marine-9/
CATEGORIES:Fincantieri Marinette Marine
ATTACH;FMTTYPE=image/png:https://tisheps.com/wp-content/uploads/2024/06/Wednesday-Lunch-@-FMM-2.png
END:VEVENT
BEGIN:VEVENT
DTSTART;TZID=America/Chicago:20241008T103000
DTEND;TZID=America/Chicago:20241008T123000
DTSTAMP:20260423T055837
CREATED:20241016T045744Z
LAST-MODIFIED:20241016T045755Z
UID:1459-1728383400-1728390600@tisheps.com
SUMMARY:Lunch @ Winsert
DESCRIPTION:2645 Industrial Pkwy S\, Marinette\, WI 54143 \nDirty Rice\nSmoked Wings\nPulled Pork Tacos\nPulled Pork/Mac
URL:https://tisheps.com/event/lunch-winsert/
CATEGORIES:Marinette
ATTACH;FMTTYPE=image/jpeg:https://tisheps.com/wp-content/uploads/2024/10/og-image.jpg
END:VEVENT
BEGIN:VEVENT
DTSTART;VALUE=DATE:20241004
DTEND;VALUE=DATE:20241005
DTSTAMP:20260423T055837
CREATED:20240811T012519Z
LAST-MODIFIED:20240811T012519Z
UID:1262-1728000000-1728086399@tisheps.com
SUMMARY:C Lunch @ Fincantieri Marinette Marine
DESCRIPTION:C Lunch @ Fincantieri Marinette Marine every friday \nPre-Order your lunch online:\nhttps://tisheps.com/product-category/fmm-pre-orders/fmm-friday-menu/
URL:https://tisheps.com/event/c-lunch-fincantieri-marinette-marine-8/
CATEGORIES:Fincantieri Marinette Marine
ATTACH;FMTTYPE=image/png:https://tisheps.com/wp-content/uploads/2024/06/Friday-Lunch-@-FMM-2.png
END:VEVENT
BEGIN:VEVENT
DTSTART;VALUE=DATE:20241002
DTEND;VALUE=DATE:20241003
DTSTAMP:20260423T055837
CREATED:20240811T010002Z
LAST-MODIFIED:20240811T010002Z
UID:1214-1727827200-1727913599@tisheps.com
SUMMARY:A Lunch @ Fincantieri Marinette Marine
DESCRIPTION:A Lunch @ Fincantieri Marinette Marine every Wednesday \nPre-Order your lunch online:\nhttps://tisheps.com/product-category/fmm-pre-orders/fmm-wednesday-menu/
URL:https://tisheps.com/event/lunch-fincantieri-marinette-marine-8/
CATEGORIES:Fincantieri Marinette Marine
ATTACH;FMTTYPE=image/png:https://tisheps.com/wp-content/uploads/2024/06/Wednesday-Lunch-@-FMM-2.png
END:VEVENT
BEGIN:VEVENT
DTSTART;VALUE=DATE:20241002
DTEND;VALUE=DATE:20241003
DTSTAMP:20260423T055837
CREATED:20240811T004452Z
LAST-MODIFIED:20240811T004452Z
UID:1207-1727827200-1727913599@tisheps.com
SUMMARY:B Lunch @ Fincantieri Marinette Marine October
DESCRIPTION:B Lunch @ Fincantieri Marinette Marine every 1st Wednesday of the month \nPre-Order your lunch online:\nhttps://tisheps.com/product-category/fmm-pre-orders/fmm-wednesday-menu/
URL:https://tisheps.com/event/b-lunch-fincantieri-marinette-marine-oct/
CATEGORIES:Fincantieri Marinette Marine
ATTACH;FMTTYPE=image/png:https://tisheps.com/wp-content/uploads/2024/06/Wednesday-Lunch-@-FMM-2.png
END:VEVENT
BEGIN:VEVENT
DTSTART;TZID=America/Chicago:20240928T120000
DTEND;TZID=America/Chicago:20240928T160000
DTSTAMP:20260423T055837
CREATED:20240910T151754Z
LAST-MODIFIED:20240910T151847Z
UID:1375-1727524800-1727539200@tisheps.com
SUMMARY:Forgotten Fire Winery in Marinette Noon-4pm
DESCRIPTION:N2393 Schacht Rd\, Marinette\, WI 54143\nLive music with The Cougars from Noon-4pm\n Tasty Traveler and Ti Shep’s Layers of Flavor will be onsite serving food\nWine releases and MORE!
URL:https://tisheps.com/event/forgotten-fire-winery-noon-4pm/
CATEGORIES:Marinette
ATTACH;FMTTYPE=image/jpeg:https://tisheps.com/wp-content/uploads/2024/09/FB_IMG_1725980388392.jpg
END:VEVENT
BEGIN:VEVENT
DTSTART;TZID=America/Chicago:20240927T160000
DTEND;TZID=America/Chicago:20240927T220000
DTSTAMP:20260423T055837
CREATED:20240811T004044Z
LAST-MODIFIED:20240811T004052Z
UID:1202-1727452800-1727474400@tisheps.com
SUMMARY:Marinette @ Fall Festival 4-10
DESCRIPTION:Marinette Fall Festival and Free Concert w/ the Glam Band! – Stephenson Island\, Marinette\n\nAppleton Axe Toss Trailer will be there from 4pm – 9pm\, and all guests will be able to toss some Axes\, two people at a time.\nKid’s Face & Pumpkin Painting Starting At 4pm.\nThe Glam Band Starts At 6pm\, Goes Until 10pm.\nBeer Tent and Food Vendors from 4pm – 10pm.\nMain Sponsors:Edgewater Sports Bar – MarinetteApplejacks Bar and Grill – MarinetteCozzys Polaris – Marinette
URL:https://tisheps.com/event/marinette-fall-festival-4-10/
CATEGORIES:Marinette
ATTACH;FMTTYPE=image/jpeg:https://tisheps.com/wp-content/uploads/2024/08/441887473_1153225592683746_9114454863260012892_n.jpg
END:VEVENT
BEGIN:VEVENT
DTSTART;VALUE=DATE:20240927
DTEND;VALUE=DATE:20240928
DTSTAMP:20260423T055837
CREATED:20240811T012513Z
LAST-MODIFIED:20240811T012513Z
UID:1261-1727395200-1727481599@tisheps.com
SUMMARY:C Lunch @ Fincantieri Marinette Marine
DESCRIPTION:C Lunch @ Fincantieri Marinette Marine every friday \nPre-Order your lunch online:\nhttps://tisheps.com/product-category/fmm-pre-orders/fmm-friday-menu/
URL:https://tisheps.com/event/c-lunch-fincantieri-marinette-marine-7/
CATEGORIES:Fincantieri Marinette Marine
ATTACH;FMTTYPE=image/png:https://tisheps.com/wp-content/uploads/2024/06/Friday-Lunch-@-FMM-2.png
END:VEVENT
BEGIN:VEVENT
DTSTART;VALUE=DATE:20240925
DTEND;VALUE=DATE:20240926
DTSTAMP:20260423T055837
CREATED:20240811T005937Z
LAST-MODIFIED:20240811T005937Z
UID:1215-1727222400-1727308799@tisheps.com
SUMMARY:A Lunch @ Fincantieri Marinette Marine
DESCRIPTION:A Lunch @ Fincantieri Marinette Marine every Wednesday \nPre-Order your lunch online:\nhttps://tisheps.com/product-category/fmm-pre-orders/fmm-wednesday-menu/
URL:https://tisheps.com/event/lunch-fincantieri-marinette-marine-7/
CATEGORIES:Fincantieri Marinette Marine
ATTACH;FMTTYPE=image/png:https://tisheps.com/wp-content/uploads/2024/06/Wednesday-Lunch-@-FMM-2.png
END:VEVENT
END:VCALENDAR